BEGIN:VCALENDAR
VERSION:2.0
PRODID:-//Shop JBS - ECPv6.15.15//NONSGML v1.0//EN
CALSCALE:GREGORIAN
METHOD:PUBLISH
X-WR-CALNAME:Shop JBS
X-ORIGINAL-URL:https://ttipwatch.com
X-WR-CALDESC:Events for Shop JBS
REFRESH-INTERVAL;VALUE=DURATION:PT1H
X-Robots-Tag:noindex
X-PUBLISHED-TTL:PT1H
BEGIN:VTIMEZONE
TZID:America/New_York
BEGIN:DAYLIGHT
TZOFFSETFROM:-0500
TZOFFSETTO:-0400
TZNAME:EDT
DTSTART:20240310T070000
END:DAYLIGHT
BEGIN:STANDARD
TZOFFSETFROM:-0400
TZOFFSETTO:-0500
TZNAME:EST
DTSTART:20241103T060000
END:STANDARD
BEGIN:DAYLIGHT
TZOFFSETFROM:-0500
TZOFFSETTO:-0400
TZNAME:EDT
DTSTART:20250309T070000
END:DAYLIGHT
BEGIN:STANDARD
TZOFFSETFROM:-0400
TZOFFSETTO:-0500
TZNAME:EST
DTSTART:20251102T060000
END:STANDARD
BEGIN:DAYLIGHT
TZOFFSETFROM:-0500
TZOFFSETTO:-0400
TZNAME:EDT
DTSTART:20260308T070000
END:DAYLIGHT
BEGIN:STANDARD
TZOFFSETFROM:-0400
TZOFFSETTO:-0500
TZNAME:EST
DTSTART:20261101T060000
END:STANDARD
END:VTIMEZONE
BEGIN:VEVENT
DTSTART;TZID=America/New_York:20250913T090000
DTEND;TZID=America/New_York:20250913T213000
DTSTAMP:20260422T111441
CREATED:20250401T212533Z
LAST-MODIFIED:20250620T000826Z
UID:10000005-1757754000-1757799000@ttipwatch.com
SUMMARY:JBS 2025 Leadership Conference
DESCRIPTION:=== IMPORTANT ===\n				\n					Click here to sign into your account\n				\n				You must be signed into your account before starting your ticket purchase. \n				Click the green plus (+) symbol below to select your ticket quantity.
URL:https://ttipwatch.com/event/lc25/
LOCATION:Crowne Plaza Philadelphia – King of Prussia\, 260 Mall Blvd\, King of Prussia\, PA\, 19406\, United States
CATEGORIES:Leadership Conference
ORGANIZER;CN="Lisa von Geldern":MAILTO:service@jbs.org
END:VEVENT
END:VCALENDAR